Workbook
Name checklist: 'Progress-Dashboard'!#REF!
Name checklist: #REF!
Name dashboard: 'Progress-Dashboard'!$B$2:$I$25
Name pendings: 'Progress-Dashboard'!#REF!
Name pendings: #REF!

Sheet Self Assessment (2)
A1: Topic | B1: Current Level | C1: Next Level | D1: Topic Code | E1: Next Step | F1: Evidence Needed
A2: Policy Commitment | B2: 1 | C2: =B2+1 -> 2 | D2: =CONCATENATE("1",B2,C2) -> 112 | E2: =IFERROR(INDEX('Progression Matrix'!F:F,MATCH(1,('Progression Matrix'!B:B=A2)*('Progression Matrix'!C:C=B2),0)),"Complete") -> Complete | F2: =IFERROR(INDEX('Progression Matrix'!F:F,MATCH(1,('Progression Matrix'!B:B=A2)*('Progression Matrix'!C:C=B2),0)),"Complete") -> Complete
A3: Procurement Practices | B3: 2 | C3: 3 | D3: =CONCATENATE("2",B3,C3) -> 223 | E3: =IFERROR(INDEX('Progression Matrix'!F:F,MATCH(1,('Progression Matrix'!B:B=A3)*('Progression Matrix'!C:C=B3),0)),"Complete") -> Complete | F3: =IFERROR(INDEX('Progression Matrix'!F:F,MATCH(1,('Progression Matrix'!B:B=A3)*('Progression Matrix'!C:C=B3),0)),"Complete") -> Complete
A4: Supplier Due Diligence | B4: 3 | C4: 4 | D4: =CONCATENATE("3",B4,C4) -> 334 | E4: =IFERROR(INDEX('Progression Matrix'!F:F,MATCH(1,('Progression Matrix'!B:B=A4)*('Progression Matrix'!C:C=B4),0)),"Complete") -> Complete | F4: =IFERROR(INDEX('Progression Matrix'!F:F,MATCH(1,('Progression Matrix'!B:B=A4)*('Progression Matrix'!C:C=B4),0)),"Complete") -> Complete

Sheet Self Assessment
A1: Topic | B1: Current Level | C1: Next Level | D1: Next Step | E1: Evidence Needed
A2: Policy Commitment | B2: 0 | C2: 1 | D2: =IFERROR(INDEX('Progression Matrix'!F:F,MATCH(1,('Progression Matrix'!B:B=A2)*('Progression Matrix'!C:C=B2),0)),"Complete") -> Complete | E2: =IFERROR(INDEX('Conformance & Evidence'!D:D,MATCH(1,('Conformance & Evidence'!A:A=A2)*('Conformance & Evidence'!B:B=C2),0)),"")
A3: Procurement Practices | C3: =B3+1 -> 1 | D3: =IFERROR(INDEX('Progression Matrix'!F:F,MATCH(1,('Progression Matrix'!B:B=A3)*('Progression Matrix'!C:C=B3),0)),"Complete") -> Complete | E3: =IFERROR(INDEX('Conformance & Evidence'!D:D,MATCH(1,('Conformance & Evidence'!A:A=A3)*('Conformance & Evidence'!B:B=C3),0)),"")
A4: Supplier Due Diligence | C4: =B4+1 -> 1 | D4: =IFERROR(INDEX('Progression Matrix'!F:F,MATCH(1,('Progression Matrix'!B:B=A4)*('Progression Matrix'!C:C=B4),0)),"Complete") -> Complete | E4: =IFERROR(INDEX('Conformance & Evidence'!D:D,MATCH(1,('Conformance & Evidence'!A:A=A4)*('Conformance & Evidence'!B:B=C4),0)),"")

Sheet Progression Matrix
A1: Topic Code | B1: Topic | C1: From Level | D1: To Level | E1: Action Code | F1: Action
A2: 1 | B2: Policy Commitment | C2: 0 | D2: 1 | E2: =CONCATENATE(A2,C2,D2) -> 101 | F2: Adopt formal employer pays policy
A3: 1 | B3: Policy Commitment | C3: 1 | D3: 2 | E3: =CONCATENATE(A3,C3,D3) -> 112 | F3: Create reimbursement procedure
A4: 1 | B4: Policy Commitment | C4: 2 | D4: 3 | E4: =CONCATENATE(A4,C4,D4) -> 123 | F4: Secure leadership endorsement
A5: 1 | B5: Policy Commitment | C5: 3 | D5: 4 | E5: =CONCATENATE(A5,C5,D5) -> 134 | F5: Embed in contracts
A6: 2 | B6: Procurement Practices | C6: 0 | D6: 1 | E6: =CONCATENATE(A6,C6,D6) -> 201 | F6: Include ethical recruitment in contracts
A7: 2 | B7: Procurement Practices | C7: 1 | D7: 2 | E7: =CONCATENATE(A7,C7,D7) -> 212 | F7: Add fee tables
A8: 2 | B8: Procurement Practices | C8: 2 | D8: 3 | E8: =CONCATENATE(A8,C8,D8) -> 223 | F8: Define remedies
A9: 2 | B9: Procurement Practices | C9: 3 | D9: 4 | E9: =CONCATENATE(A9,C9,D9) -> 234 | F9: Operationalize monitoring and renewal
A10: 3 | B10: Supplier Due Diligence | C10: 0 | D10: 1 | E10: =CONCATENATE(A10,C10,D10) -> 301 | F10: Define criteria
A11: 3 | B11: Supplier Due Diligence | C11: 1 | D11: 2 | E11: =CONCATENATE(A11,C11,D11) -> 312 | F11: Launch bidding
A12: 3 | B12: Supplier Due Diligence | C12: 2 | D12: 3 | E12: =CONCATENATE(A12,C12,D12) -> 323 | F12: Screen agents
A13: 3 | B13: Supplier Due Diligence | C13: 3 | D13: 4 | E13: =CONCATENATE(A13,C13,D13) -> 334 | F13: Continuous monitoring

Sheet Conformance & Evidence
A1: Topic | B1: Action Code | C1: Conformance Criteria | D1: Evidence Required
A2: Policy Commitment | B2: 0 | C2: No policy exists | D2: None
A3: Policy Commitment | B3: 1 | C3: Policy drafted | D3: Policy document
A4: Policy Commitment | B4: 2 | C4: Procedures defined | D4: Policy + SOP documentation
A5: Policy Commitment | B5: 3 | C5: Policy implemented | D5: Internal communications + approvals
A6: Policy Commitment | B6: 4 | C6: Policy fully embedded | D6: Signed contracts + external disclosure
A7: Procurement Practices | B7: 0 | C7: No requirements | D7: None
A8: Procurement Practices | B8: 1 | C8: Basic clauses | D8: Contracts
A9: Procurement Practices | B9: 2 | C9: Fee breakdown included | D9: Contract annex with fee table
A10: Procurement Practices | B10: 3 | C10: Remedies defined | D10: Contracts + remediation clauses
A11: Procurement Practices | B11: 4 | C11: Fully operational | D11: Monitoring reports + renewals

Sheet Dashboard
A1: Average Score | B1: =AVERAGE('Self Assessment'!B2:B20) -> 0

Sheet Conformance
A1: Topic | B1: Action Code | C1: Action Description | D1: Minimum Conformance Criteria | E1: Suggested Evidence | F1: Status | G1: Completion
A2: Commitment | B2: 101 | C2: Draft and adopt an ethical recruitment written policy with employer pays obligations and zero fees to workers expressed commitments aligned with international standards | D2:  Workers enter recruitment and employment voluntarily, without deception, coercion, or undue pressure.  We prohibit the charging of recruitment fees or related costs to workers. Where any such costs have been incurred, we ensure full and prompt reimbursement.  Workers receive free, complete, and accurate information on their rights, job conditions, and terms of employment, in a language they understand, prior to engagement.  We conduct and require all recruitment partners to conduct hiring processes ethically, legally, transparently, and without discrimination, ensuring accuracy at every stage.  We engage only compliant labor recruiters and require, through contracts and oversight, that all recruitment agents and their partners adhere to applicable laws and these principles.  We implement monitoring and evaluation procedures for recruitment practices and for all parties involved, and we take action to address any identified human rights risks or violations.  We prohibit retaliation, intimidation, or blacklisting of workers, including those who report recruitment abuses, and we provide appropriate protection for whistleblowers.  We do not, under any circumstances, retain or restrict access to workers’ passports, identity documents, or employment contracts.  We provide workers with access to effective grievance mechanisms and ensure timely, fair, and appropriate remedies for any recruitment-related concerns or violations. | E2: Policy document | F2: Not started | G2: 0
A3: Commitment | B3: 102 | C3: Establish a detailed reimbursement policy including eligibility, covered costs, documentation, timelines, and responsibilities. | D3: The employer has written reimbursement policy and procedure that establishes transparent rules outlining eligibility criteria, covered expenses, required documentation, approval processes, timelines for repayment, and responsible parties, ensuring consistent and timely reimbursement. Determine workers are reimbursed within 30 days of arrival for any legally required fees they are required to pay directly by either the country of origin or country of destination government agencies.Reimbursement of fees should only occur when an employer is unable to cover certain fees in advance and/or when it is found workers have been charged fees.Repayment must be made as soon as practicable or within xx months of discovery of the fee-charging. Calculations of repayment amounts are understood and agreed to by workers. Receipts should not be a precondition for repayment. Repayment is based in worker interview data.The employer does not offer workers or jobseekers loans or advances in which total debt exceeds 50 percent of the worker’s monthly wage, monthly repayment exceeds 10 percent of the worker’s monthly wage, or interest rates exceed set limits on rates for personal loans. The terms of personal loans and salary advances are clearly explained to workers, mutually agreed, and do not require workers to remain with the employer until repayment is completed. | E3: Policy document | F3: Not started | G3: 0
A4: Commitment | B4: 103 | C4: The policy is formally endorsed by senior management | D4: As described in action | E4: Internal communications + approvals | F4: Not started | G4: 0
A5: Commitment | B5: 104 | C5: The policy is written into contracts with all business partners, including recruitment agents | D5: As described in action | E5: Signed contracts + external disclosure | F5: Not started | G5: 0
A6: System & Policy Setup | B6: 201 | C6: Employer reviews and updates service agreements with labor intermediaries to include ethical recruitment requirements and performance expectations. | D6: The contract specifies, Cost per item Total cost per worker. If recruitment fees and costs locally are not aligned with international standards, employer applies the higher standard. The general provisions should include: • Statement that the employer is financially responsible for recruitment, hiring, and employment costs of all workers, including all applicable fees and expenses (see xxxxxxxx for a listing of employer-paid fees). • Prohibition against charging recruitment and placement fees and related expenses to job seekers and workers. • Description of the specific services to be provided by the agency. • Remedies for violations of agreement terms and conditions | E6: Contract annex with fee table + remediation clauses
A7: System & Policy Setup | B7: 202 | C7: Employer includes a detailed table of fees and costs (per item and per worker) aligned with international standards in all contracts with recruitment agencies or labor brokers | D7: As described in action
A8: System & Policy Setup | B8: 203 | C8: The service contract defines remedies, including repayment obligations when workers have paid fees | D8: As described in action
A9: System & Policy Setup | B9: 204 | C9: Service agreements with recruitment agents are renewed on a regular basis (e.g., every two years) and whenever there is a change in client requirements or sending and receiving country regulations | D9: As described in action
A10: System & Policy Setup | B10: 301 | C10: Define agent selection criteria and ethical recruitment performance indicators | D10: When interviewing prospective recruitment agents, the agents should be asked to describe how they are able to meet the company’s selection criteria. In addition to assessing objective criteria, such as whether policies and processes are documented, the company may wish to evaluate the degree to which the potential recruitment agents are open to engagement around issues of fair recruitment | E10: Documented agent selection criteria; scoring template.
A11: Implementation | B11: 302 | C11: Launch competitive bidding processes with clear ethical recruitment requirements | D11: As described in action | E11: Tender/RFP document including EPP requirements; bid evaluation records
A12: Implementation | B12: 303 | C12: Screen agents using structured interviews or self-assessment tools | D12: Adherence to Law/EPP Standards. describe your sourcing strategy – i.e., how do you find job applicants? Review labor broker wage deduction practices when applicable (e.g. meals, housing, repayment of loan, etc.). Verify if the labor broker is working with sub-agents and verify if sub-agents are authorized to operate or operate informally. Identify mechanisms used by the agent to ensure sub-agents are not chargin fees to workers. If a third party owns/manages housing, interview/ discuss housing with third party. work on a regular basis with suppliers such as medical clinics? Travel agencies? Accommodations providers/dormitory owners and who compensates them. and Review labor broker records of housing occupancy, rent/fees charged and paid, rates . Employer only engages recruiters, agents, and sub-agents who do not charge fees to jobseekers selecting agents after a vetting process inclusive of auditable standards. The company conducts due diligence and risk screening for all recruitment partners as a basis for selection. | E12: Completed screening checklist; agent self-assessment form
A13: Implementation | B13: 304 | C13: Implement scoring and risk-based selection | D13: As described in action | E13: Scoring matrix
A14: System & Policy Setup | B14: 401 | C14: Map ILO-aligned recruitment-related fees and costs across recruitment corridors and identify fair market rates. Calculate the total cost per worker and per cohort. | D14: As described in action | E14: Fee mapping spreadsheet; cost breakdown per corridor; Comparison table of quotes
A15: System & Policy Setup | B15: 402 | C15: Map ongoing employment costs expenses required for workers to continue their employment at the facility, such as a stamping fee, passport renewal, and local ID renewal, employer transfer, amnesty or re-hire programs. | D15: As described in action
A16: Implementation | B16: 403 | C16: Compare supplier quotes and contracts against market benchmarks and flag abnormal pricing and inconsitencies. | D16: As described in action
A17: Implementation | B17: 404 | C17: Use market benchmarks to establish acceptable cost ranges and ensure pricing is not below minimum thresholds. | D17: As described in action
A18: Implementation | B18: 501 | C18: Incorporate ILO-aligned fees and cost items list into agency service agreements, clearly specifying employer-paid vs. agency-paid costs. | D18: The service agreement provides a clear breakdown of costs to be paid directly by the employer during recruitment in addition to fees payable to agencies for services rendered; The service agreement defines services provided by other recruitment business partners (for example, sending country agents, lodging and local transportation providers) managed by the recruitment agency, and their associated per worker costs. | E18: Contract annex with fee table + remediation clauses
A19: Implementation | B19: 502 | C19: Use benchmark data to adjust pricing and ensure cost item transparency in contracts. | D19: As described in action
A20: Implementation | B20: 503 | C20: Determine terms of payment for the agency (e.g., partial or full payment up front, payment upon worker deployment) | D20: As described in action
A21: Implementation | B21: 504 | C21: Conduct regular recruitment fee and cost reviews at each hiring cycle and update contract estimates based on new market data. | D21: As described in action
A22: Implementation | B22: 505 | C22: Maintain records of payments to agents and recruitment-related costs. Ensure documentation verifies employer-paid fees and reimbursed worker expenses | D22: As described in action | E22: Payment records; invoices; bank transfers to agents, financial ledger
A23: Implementation | B23: 601 | C23: Assess your internal teams and suppliers to identify those who are most in need of capability building (e.g. new agents, agents who have not yet adopted an EPP policy, those with most recent non-compliant audits) and need priority training. | D23: As described in action | E23: Assessment reports
A24: Implementation | B24: 602 | C24: Create awareness and/or training materials such as short briefings, posters, FAQs, codes of conduct that explain key messages for your staff and your agents (e.g., no-fee policy, clear contract requirements, reporting worker-fee charging). Consider using existing training materials developed by your buyer or any other third-party. | D24: As described in action | E24: Training materials
A25: Implementation | B25: 603 | C25: Rollout agent training or onboarding, focused on building awareness and understanding of EPP requirements and recruitment-related risks, local laws on these issues, and customer requirements related to recruitment and hiring. | D25: As described in action | E25: Training attendance records
A26: Implementation | B26: 604 | C26: Implement agent onboarding and training as contract requirements | D26: As described in action | E26: Onboarding attendance records
A27: System & Policy Setup | B27: 701 | C27: Review and approve any job advertisement, including the job description used by any third parties, to ensure accrate description of role and responsibilities of the position | D27: As described in action | E27: Job ad
A28: Implementation | B28: 702 | C28: Ensure alignment between job advertisements, offer letters, and employment contracts | D28: As described in action | E28: Worker contracts
A29: Implementation | B29: 703 | C29: Provide pre-departure briefing to workers on employment conditions, rights, no-fee policy, protections vs. fee charging, fee reimbursement and remediation policy prior to departure | D29: As described in action | E29: Woker onboarding attendance records
A30: Implementation | B30: 704 | C30: Provide contracts in workers’ language in advance. Contract is dated and signed by employer. | D30: As described in action | E30: Worker contracts
A31: Implementation | B31: 705 | C31: Deliver an in-depth orientation session to workers upon arrival in a language that they understand. | D31: As described in action | E31: Worker training attendance records
A32: Implementation | B32: 801 | C32: Conduct periodic assessments of recruitment agents and service providers. | D32: As described in action | E32: Assessment reports
A33: Implementation | B33: 802 | C33: Implement worker interview processes at arrival and periodically (e.g after 90 days) to verify fee reimbursement and debt. | D33: As described in action | E33: Interview records and report
... A41: Implementation | B41: 905 | C41: Gather worker feedback on recruitment remediation processes. | D41: As described in action | E41: Worker feedback reports
D46: Average Score | E46: =AVERAGE('Self Assessment'!E47:E65) -> #DIV/0!

Sheet Roadmap
A1: Topic | B1: Next Action | C1: Evidence Required
A2: Policy Commitment | B2: ='Self Assessment'!D2 -> Complete | C2: ='Self Assessment'!E2
A3: Procurement Practices | B3: ='Self Assessment'!D3 -> Complete | C3: ='Self Assessment'!E3
A4: Supplier Due Diligence | B4: ='Self Assessment'!D4 -> Complete | C4: ='Self Assessment'!E4

Sheet Sheet1
D2: Supplier Sourcing & Research: Procurement teams evaluate and identify reliable vendors.
D3: Request for Quotation (RFQ) & Bidding: Detailed RFQs are sent to suppliers to gather pricing, MOQs (Minimum Order Quantities), and lead times.
D4: Supplier Evaluation & Negotiation: Vendors are vetted. Contracts are negotiated for cost efficiency and favorable payment terms using data from platforms like Spendflo Manufacturing Procurement.
D5: Purchase Order (PO) Issuance: A legally binding PO is transmitted to the chosen vendor. Enterprise tools like SAP Procurement or Coupa are typically used to automate this step and prevent miscommunication.
D6: Delivery & Quality Inspection: Materials arrive at the factory warehouse and undergo rigorous quality assurance to ensure they meet manufacturing standards.
D7: Three-Way Matching & Invoice Approval: Finance reconciles the PO, the Receiving Document, and the Supplier Invoice before releasing payment, followed by long-term Supplier Performance Analysis

Sheet Progress-Dashboard
B2: EPP — Progress Dashboard
B4: EPP Implementation Score | D4: =SUM(Progression!G5:G101)/SUM(Progression!D5:D101) -> 0
B6: Action Implementation Rate | D6: =CONCATENATE(COUNTIF(Progression!F5:F101,1)," out of ",(COUNTIF(Progression!F5:F101,1)+COUNTIF(Progression!F5:F101,0))) -> 0 out of 47
B8: Critical actions outstanding | D8: =COUNTIF(Progression!F5:F101,0) -> 47
B10: Maturity Level | D10: {=_xlfn.IFS(D4<=0.25,"Beginner",D4<=0.5,"Developing",D4<=0.75,"Advancing",D4>0.75,"Leading")} -> Beginner
B11: {="Highest Risk Area(s): "&_xlfn.TEXTJOIN(", ",TRUE,_xlfn._xlws.FILTER(C15:C25,E15:E25=MIN(E15:E25)))} -> Highest Risk Area(s): Policy Adoption, Screening & Due Diligence of Recruitment Agents, Recruitment Fees and Related Cost Budgeting, Agent Contracts, Recruitment Process, Worker Contracts, Worker Awareness & Pre-Departure Training, Supplier & Internal Capacity Building, Agent Monitoring, Remediation, Grievance Mechanisms
B13: Weighed Completion per Areas (%)
B14: Section | C14: Action Area | E14: Area Progress | F14: Meets Requirements
B15: 100 | C15: Policy Adoption | E15: =ROUND(SUM(Progression!G5:G8)+0.000001,0)/100 -> 0 | F15: =IF(SUM(Progression!G5:G8)<100,_xlfn.CONCAT("Pending Actions: ",IF(RIGHT(TRIM(_xlfn.CONCAT(Progression!I5:I8)),1)=",", LEFT(TRIM(_xlfn.CONCAT(Progression!I5:I8)), LEN(_xlfn.CONCAT(Progression!I5:I8))-1), _xlfn.CONCAT(Progression!I5:I8))),"Yes") -> Pending Actions: 101,102,103,104
B16: 200 | C16: Screening & Due Diligence of Recruitment Agents | E16: =ROUND(SUM(Progression!G14:G16)+0.000001,0)/100 -> 0 | F16: =IF(SUM(Progression!G14:G16)<100,_xlfn.CONCAT("Pending Actions: ",IF(RIGHT(TRIM(_xlfn.CONCAT(Progression!I14:I16)),1)=",", LEFT(TRIM(_xlfn.CONCAT(Progression!I14:I16)), LEN(_xlfn.CONCAT(Progression!I14:I16))-1), _xlfn.CONCAT(Progression!I14:I16))),"Yes") -> Pending Actions: 201,202,203
B17: 300 | C17: Recruitment Fees and Related Cost Budgeting | E17: =ROUND(SUM(Progression!G22:G25)+0.000001,0)/100 -> 0 | F17: =IF(SUM(Progression!G22:G25)<100,_xlfn.CONCAT("Pending Actions: ",IF(RIGHT(TRIM(_xlfn.CONCAT(Progression!I22:I25)),1)=",", LEFT(TRIM(_xlfn.CONCAT(Progression!I22:I25)), LEN(_xlfn.CONCAT(Progression!I22:I25))-1), _xlfn.CONCAT(Progression!I22:I25))),"Yes") -> Pending Actions: 301,302,303,304
B18: 400 | C18: Agent Contracts | E18: =ROUND(SUM(Progression!G31:G33)+0.000001,0)/100 -> 0 | F18: =IF(SUM(Progression!G31:G36)<100,_xlfn.CONCAT("Pending Actions: ",IF(RIGHT(TRIM(_xlfn.CONCAT(Progression!F31:F36)),1)=",", LEFT(TRIM(_xlfn.CONCAT(Progression!F31:F36)), LEN(_xlfn.CONCAT(Progression!F31:F36))-1), _xlfn.CONCAT(Progression!I31:I36))),"Yes") -> Pending Actions: 401,402,403,404,405,406,
B19: 500 | C19: Recruitment Process | E19: =ROUND(SUM(Progression!G42:G46)+0.000001,0)/100 -> 0 | F19: =IF(SUM(Progression!G42:G46)<100,_xlfn.CONCAT("Pending Actions: ",IF(RIGHT(TRIM(_xlfn.CONCAT(Progression!F42:F46)),1)=",", LEFT(TRIM(_xlfn.CONCAT(Progression!F42:F46)), LEN(_xlfn.CONCAT(Progression!F42:F46))-1), _xlfn.CONCAT(Progression!I42:I46))),"Yes") -> Pending Actions: 501,502,503,504,505,
B20: 600 | C20: Worker Contracts | E20: =ROUND(SUM(Progression!G52:G55)+0.000001,0)/100 -> 0 | F20: =IF(SUM(Progression!G52:G57)<100,_xlfn.CONCAT("Pending Actions: ",IF(RIGHT(TRIM(_xlfn.CONCAT(Progression!I52:I57)),1)=",", LEFT(TRIM(_xlfn.CONCAT(Progression!I52:I57)), LEN(_xlfn.CONCAT(Progression!I52:I57))-1), _xlfn.CONCAT(Progression!I52:I57))),"Yes") -> Pending Actions: 601,602,603,604,605,606
B21: 700 | C21: Worker Awareness & Pre-Departure Training | E21: =ROUND(SUM(Progression!G63:G65)+0.000001,0)/100 -> 0 | F21: =IF(SUM(Progression!G63:G65)<100,_xlfn.CONCAT("Pending Actions: ",IF(RIGHT(TRIM(_xlfn.CONCAT(Progression!I63:I65)),1)=",", LEFT(TRIM(_xlfn.CONCAT(Progression!I63:I65)), LEN(_xlfn.CONCAT(Progression!I63:I65))-1), _xlfn.CONCAT(Progression!I63:I65))),"Yes") -> Pending Actions: 701,702,703
B22: 800 | C22: Supplier & Internal Capacity Building | E22: =ROUND(SUM(Progression!G71:G74)+0.000001,0)/100 -> 0 | F22: =IF(SUM(Progression!G71:G74)<100,_xlfn.CONCAT("Pending Actions: ",IF(RIGHT(TRIM(_xlfn.CONCAT(Progression!I71:I74)),1)=",", LEFT(TRIM(_xlfn.CONCAT(Progression!I71:I74)), LEN(_xlfn.CONCAT(Progression!I71:I74))-1), _xlfn.CONCAT(Progression!I71:I74))),"Yes") -> Pending Actions: 801,802,803,804
B23: 900 | C23: Agent Monitoring | E23: =ROUND(SUM(Progression!G80:G83)+0.000001,0)/100 -> 0 | F23: =IF(SUM(Progression!G80:G83)<100,_xlfn.CONCAT("Pending Actions: ",IF(RIGHT(TRIM(_xlfn.CONCAT(Progression!I80:I83)),1)=",", LEFT(TRIM(_xlfn.CONCAT(Progression!I80:I83)), LEN(_xlfn.CONCAT(Progression!I80:I83))-1), _xlfn.CONCAT(Progression!I80:I83))),"Yes") -> Pending Actions: 901,902,903,904
B24: 1000 | C24: Remediation | E24: =ROUND(SUM(Progression!G89:G92)+0.000001,0)/100 -> 0 | F24: =IF(SUM(Progression!G89:G92)<100,_xlfn.CONCAT("Pending Actions: ",IF(RIGHT(TRIM(_xlfn.CONCAT(Progression!I89:I92)),1)=",", LEFT(TRIM(_xlfn.CONCAT(Progression!I89:I92)), LEN(_xlfn.CONCAT(Progression!I89:I92))-1), _xlfn.CONCAT(Progression!I89:I92))),"Yes") -> Pending Actions: 1001,1002,1003,1004
B25: 200 | C25: Grievance Mechanisms | E25: =ROUND(SUM(Progression!G98:G101)+0.000001,0)/100 -> 0 | F25: =IF(SUM(Progression!G98:G101)<100,_xlfn.CONCAT("Pending Actions: ",IF(RIGHT(TRIM(_xlfn.CONCAT(Progression!I98:I101)),1)=",", LEFT(TRIM(_xlfn.CONCAT(Progression!I98:I101)), LEN(_xlfn.CONCAT(Progression!I98:I101))-1), _xlfn.CONCAT(Progression!I82:I85))),"Yes") -> Pending Actions: 2001,2002,2003,2004

Sheet Progression
B1: EPP Action Areas Interactive Checklist
B3: 1.- POLICY ADOPTION REQUIREMENTS
B4: Item | C4: Action Description | D4: Points | E4: Required | F4: Complete | G4: Score | H4: Status | I4: Pending Actions
B5: 101 | C5: Update company Code of Conduct to incorporate all ethical recruitment standards as follows: - Workers enter recruitment and employment voluntarily, without deception, coercion, or undue pressure. - We prohibit the charging of recruitment fees or related costs to workers. Where any such costs have been incurred, we ensure full and prompt reimbursement. - Workers receive free, complete, and accurate information on their rights, job conditions, and terms of employment, in a language they understand, prior to engagement. - We conduct and require all recruitment partners to conduct hiring processes ethically, legally, transparently, and without discrimination, ensuring accuracy at every stage. - We engage only compliant labor recruiters and require, through contracts and oversight, that all recruitment agents and their partners adhere to applicable laws and these principles. - We implement monitoring and evaluation procedures for recruitment practices and for all parties involved, and we take action to address any identified human rights risks or violations. - We prohibit retaliation, intimidation, or blacklisting of workers, including those who report recruitment abuses, and we provide appropriate protection for whistleblowers. - We do not, under any circumstances, retain or restrict access to workers’ passports, identity documents, or employment contracts. - We provide workers with access to effective grievance mechanisms and ensure timely, fair, and appropriate remedies for any recruitment-related concerns or violations. | D5: 25 | E5: yes | F5: =IF(LOWER(H5)="fully Implemented",1,0) -> 0 | G5: {=_xlfn.SWITCH(H5,"Fully Implemented",1,"In Progress",0.5,"No started",0,0)*D5} -> 0 | H5: No started | I5: =IF(H5<>"Fully Implemented",CONCATENATE(B5,","),"") -> 101,
B6: 102 | C6: Establish a detailed reimbursement policy including eligibility, covered costs, documentation, and timelines. | D6: 25 | E6: yes | F6: =IF(LOWER(H6)="fully Implemented",1,0) -> 0 | G6: {=_xlfn.SWITCH(H6,"Fully Implemented",1,"In Progress",0.5,"No started",0,0)*D6} -> 0 | H6: No started | I6: =IF(H6<>"Fully Implemented",CONCATENATE(B6,","),"") -> 102,
B7: 103 | C7: Ensure the policy is formally endorsed by senior management. | D7: 25 | E7: yes | F7: =IF(LOWER(H7)="fully Implemented",1,0) -> 0 | G7: {=_xlfn.SWITCH(H7,"Fully Implemented",1,"In Progress",0.5,"No started",0,0)*D7} -> 0 | H7: No started | I7: =IF(H7<>"Fully Implemented",CONCATENATE(B7,","),"") -> 103,
B8: 104 | C8: Communicate contractual provisions that require compliance with your company's ethical recruitment policy among recruitment agents and other relevant recruitment business partners. | D8: 25 | E8: yes | F8: =IF(LOWER(H8)="fully Implemented",1,0) -> 0 | G8: {=_xlfn.SWITCH(H8,"Fully Implemented",1,"In Progress",0.5,"No started",0,0)*D8} -> 0 | H8: No started | I8: =IF(H8<>"Fully Implemented",CONCATENATE(B8,","),"") -> 104,
B12: 2.- SCREENING & DUE DILIGENCE OF RECRUITMENT AGENTS
B13: Item | C13: Action Description | D13: Points | E13: Required | F13: Validation Flag | G13: Completion | H13: Status | I13: Pending Action
B14: 201 | C14: Create a standardized screening checklist for recruitment agents (or identify an assessment tool if available to you). Include the following criteria or make sure the screening covers the following: - Agent holds a valid recruitment license from government with no history of suspension or revocation. - Agent demonstrates transparent wage deduction practices (e.g. meals, housing, loans) with proper documentation. - Agent discloses sourcing practices, including how applicants are found and any use of external brokers or agents. - Agent discloses use of sub-agents and means to ensure all are authorized and legally compliant. - Agent has effective controls to prevent worker-paid recruitment fees, including oversight of sub-agents. - Agent commits to a no-fee policy for jobseekers across all operations and intermediaries. - Agent identifies all third parties involved (e.g. agents, brokers, medical clinics, travel agencies, housing providers) and who pays them and when. - Agent ensures fair and transparent housing arrangements (if applicable), with verifiable records of occupancy, rent, and fees. - Is able to provide complete and reliable records for all recruitment-related payments. | D14: 33.3 | E14: yes | F14: =IF(LOWER(H14)="fully Implemented",1,0) -> 0 | G14: {=_xlfn.SWITCH(H14,"Fully Implemented",1,"In Progress",0.5,"No started",0,0)*D14} -> 0 | H14: No started | I14: =IF(H14<>"Fully Implemented",CONCATENATE(B14,","),"") -> 201,
B15: 202 | C15: Screen agents before contracting using checklist and collect required documents to verify validity of claims (e.g., licenses, fee policies, sub-agent lists). Eliminate non-compliant recruiters. | D15: 33.3 | E15: Yes | F15: =IF(LOWER(H15)="fully Implemented",1,0) -> 0 | G15: {=_xlfn.SWITCH(H15,"Fully Implemented",1,"In Progress",0.5,"No started",0,0)*D15} -> 0 | H15: No started | I15: =IF(H15<>"Fully Implemented",CONCATENATE(B15,","),"") -> 202,
B16: 203 | C16: Evaluate and score compliant recruiters: - Score each candidate for performance on each criteria - Use score of all candidates to cross- analyze and rank suppliers | D16: 33.4 | E16: yes | F16: =IF(LOWER(H16)="fully Implemented",1,0) -> 0 | G16: {=_xlfn.SWITCH(H16,"Fully Implemented",1,"In Progress",0.5,"No started",0,0)*D16} -> 0 | H16: No started | I16: =IF(H16<>"Fully Implemented",CONCATENATE(B16,","),"") -> 203,
B20: 3.- RECRUITMENT FEES AND RELATED COST BUDGETING
B21: Item | C21: Action Description | D21: Points | E21: Required | F21: Validation Flag | G21: Completion | H21: Status | I21: Pending Action
B22: 301 | C22: Map each corridor from which your company recruits from for all recruitment-related fees and costs in sending country: Ensure the following costs and fees are covered: - All legally required documents, skills trainings, certifications, medical exams and broker fees in the country of origin. - All costs associated with obtaining documents and/or trainings, such as lodging fees, transportation and meals. - All repatriation costs. - Agency brokerage fee. (See Verite's Recruitment Cost Calculator for existing cost mapping) | D22: 25 | E22: yes | F22: =IF(LOWER(H22)="fully Implemented",1,0) -> 0 | G22: {=_xlfn.SWITCH(H22,"Fully Implemented",1,"In Progress",0.5,"No started",0,0)*D22} -> 0 | H22: No started | I22: =IF(H22<>"Fully Implemented",CONCATENATE(B22,","),"") -> 301,
B23: 302 | C23: Map each corridor from which your company recruits from for recruitment-related fees and costs in recieving country. Ensure the following costs and fees are covered: - All legally required documents, skills trainings, certifications, medical exams in the receiving country. - All transport costs for deployment and repatriation. - Agency brokerage fee. (See Verite's Recruitment Cost Calculator for existing cost mapping) | D23: 25 | E23: yes | F23: =IF(LOWER(H23)="fully Implemented",1,0) -> 0 | G23: {=_xlfn.SWITCH(H23,"Fully Implemented",1,"In Progress",0.5,"No started",0,0)*D23} -> 0 | H23: No started | I23: =IF(H23<>"Fully Implemented",CONCATENATE(B23,","),"") -> 302,
B24: 303 | C24: Map ongoing employment costs expenses required for workers to continue their employment at the facility, such as a stamping fee, passport renewal, and local ID renewal, employer transfer, amnesty or re-hire programs. | D24: 25 | E24: yes | F24: =IF(LOWER(H24)="fully Implemented",1,0) -> 0 | G24: {=_xlfn.SWITCH(H24,"Fully Implemented",1,"In Progress",0.5,"No started",0,0)*D24} -> 0 | H24: No started | I24: =IF(H24<>"Fully Implemented",CONCATENATE(B24,","),"") -> 303,
B25: 304 | C25: Use market benchmarks and cost mapping data to establish acceptable cost ranges and pricing thresholds, defining minimum and maximum cost ranges for each cost item. (See Verite's Recruitment Cost Calculator for market benchmarks) | D25: 25 | E25: yes | F25: =IF(LOWER(H25)="fully Implemented",1,0) -> 0 | G25: {=_xlfn.SWITCH(H25,"Fully Implemented",1,"In Progress",0.5,"No started",0,0)*D25} -> 0 | H25: No started | I25: =IF(H25<>"Fully Implemented",CONCATENATE(B25,","),"") -> 304,
B29: 4.- AGENT CONTRACTS
B30: Item | C30: Action Description | D30: Points | E30: Required | F30: Validation Flag | G30: Completion | H30: Status | I30: Pending Action
B31: 401 | C31: Update recruitment agency service agreements to incorporate ethical recruitment requirements and transfer responsibility for recruitment fees and costs from workers to the employer. Ensure agreements include: - A detailed table of all recruitment fees and related costs (RFRC) payable by the employer. - A breakdown of costs paid directly by the employer and costs paid by the agency on behalf of the employer. - The total cost per worker for services provided by the agency. - Services provided by subcontracted recruitment business partners (e.g., sending-country agents, lodging providers, transportation providers). - Remedies, including repayment obligations when workers have paid fees or costs. - Exceptions where workers are legally required to pay a fee directly and the employer's commitment to reimburse workers within thirty (30) days of arrival. | D31: 17 | E31: yes | F31: =IF(LOWER(H31)="fully Implemented",1,0) -> 0 | G31: {=_xlfn.SWITCH(H31,"Fully Implemented",1,"In Progress",0.5,"No started",0,0)*D31} -> 0 | H31: No started | I31: =IF(H31<>"Fully Implemented",CONCATENATE(B31,","),"") -> 401,
B32: 402 | C32: Include a clear provision stating the employer does not offer workers or jobseekers loans or advances in which total debt exceeds 50 percent of the worker’s monthly wage, monthly repayment exceeds 10 percent of the worker’s monthly wage, or interest rates exceed set limits on rates for personal loans. The terms of personal loans and salary advances are clearly explained to workers, mutually agreed, and do not require workers to remain with the employer until repayment is completed. | D32: 17 | E32: yes | F32: =IF(LOWER(H32)="fully Implemented",1,0) -> 0 | G32: {=_xlfn.SWITCH(H32,"Fully Implemented",1,"In Progress",0.5,"No started",0,0)*D32} -> 0 | H32: No started | I32: =IF(H32<>"Fully Implemented",CONCATENATE(B32,","),"") -> 402,
B33: 403 | C33: Include a clear provision stating the recruitment agency must ask for approval before subcontracting with agents. | D33: 16 | E33: Yes | F33: =IF(LOWER(H33)="fully Implemented",1,0) -> 0 | G33: {=_xlfn.SWITCH(H33,"Fully Implemented",1,"In Progress",0.5,"No started",0,0)*D33} -> 0 | H33: No started | I33: =IF(H33<>"Fully Implemented",CONCATENATE(B33,","),"") -> 403,
B34: 404 | C34: Include a clear provision stating the recruitment agency commits to allowing audit access when requested by supplier. | D34: 17 | E34: Yes | F34: =IF(LOWER(H34)="fully Implemented",1,0) -> 0 | G34: {=_xlfn.SWITCH(H34,"Fully Implemented",1,"In Progress",0.5,"No started",0,0)*D34} -> 0 | H34: No started | I34: =IF(H34<>"Fully Implemented",CONCATENATE(B34,","),"") -> 404,
B35: 405 | C35: Include a clear provision stating the recruitment agency keeps records of payments made to service providers. | D35: 16 | E35: Yes | F35: =IF(LOWER(H35)="fully Implemented",1,0) -> 0 | G35: {=_xlfn.SWITCH(H35,"Fully Implemented",1,"In Progress",0.5,"No started",0,0)*D35} -> 0 | H35: No started | I35: =IF(H35<>"Fully Implemented",CONCATENATE(B35,","),"") -> 405,
B36: 406 | C36: Define method, frequency, and process by which fees and costs are paid by the employer and/or by the agency on behalf of the employer. For example, partial or full payment up front, payment upon worker deployment, etc. | D36: 17 | E36: Yes | F36: =IF(LOWER(H36)="fully Implemented",1,0) -> 0 | G36: {=_xlfn.SWITCH(H36,"Fully Implemented",1,"In Progress",0.5,"No started",0,0)*D36} -> 0 | H36: No started | I36: =IF(H36<>"Fully Implemented",CONCATENATE(B36,","),"") -> 406,
B40: 5.- RECRUITMENT PROCESS
B41: Item | C41: Action Description | D41: Points | E41: Required | F41: Validation Flag | G41: Completion | H41: Status | I41: Pending Action
B42: 501 | C42: Launch competitive bidding processes through a Requests for Quotations (RFQ) that details ethical recruitment requirements as outlined in own CoC, client CoC, legal requirements and aligned with screening criteria. | D42: 20 | E42: yes | F42: =IF(LOWER(H42)="fully Implemented",1,0) -> 0 | G42: {=_xlfn.SWITCH(H42,"Fully Implemented",1,"In Progress",0.5,"No started",0,0)*D42} -> 0 | H42: No started | I42: =IF(H42<>"Fully Implemented",CONCATENATE(B42,","),"") -> 501,
B43: 502 | C43: Compare supplier quotations, contracts, and recruitment offers against established cost benchmarks and flag out of range pricing , marking those below or above benchmark tresholds. (Use Verite's Recruitment Cost Calculator for quotation benchmarking) | D43: 20 | E43: yes | F43: =IF(LOWER(H43)="fully Implemented",1,0) -> 0 | G43: {=_xlfn.SWITCH(H43,"Fully Implemented",1,"In Progress",0.5,"No started",0,0)*D43} -> 0 | H43: No started | I43: =IF(H43<>"Fully Implemented",CONCATENATE(B43,","),"") -> 502,
B44: 503 | C44: Issue a legally binding Purchase or Service Order to chosen vendor to initiate the recruitment process/hiring of a new cohort. | D44: 20 | E44: yes | F44: =IF(LOWER(H44)="fully Implemented",1,0) -> 0 | G44: {=_xlfn.SWITCH(H44,"Fully Implemented",1,"In Progress",0.5,"No started",0,0)*D44} -> 0 | H44: No started | I44: =IF(H44<>"Fully Implemented",CONCATENATE(B44,","),"") -> 503,
B45: 504 | C45: For invoice reconciliation and approval, verify recruitment agent invoice against your recruitment fees and costs benchmarks to flag potential abnormal pricing and inconsistencies. (Use Verite's Recruitment Cost Calculator for invoice reconcilitation) | D45: 20 | E45: yes | F45: =IF(LOWER(H45)="fully Implemented",1,0) -> 0 | G45: {=_xlfn.SWITCH(H45,"Fully Implemented",1,"In Progress",0.5,"No started",0,0)*D45} -> 0 | H45: No started | I45: =IF(H45<>"Fully Implemented",CONCATENATE(B45,","),"") -> 504,
B46: 505 | C46: Maintain records of payments to agents and recruitment-related costs. Ensure documentation verifies employer-paid fees and reimbursed worker expenses. Proactively communicate evidence and documentation to your client. | D46: 20 | E46: yes | F46: =IF(LOWER(H46)="fully Implemented",1,0) -> 0 | G46: {=_xlfn.SWITCH(H46,"Fully Implemented",1,"In Progress",0.5,"No started",0,0)*D46} -> 0 | H46: No started | I46: =IF(H46<>"Fully Implemented",CONCATENATE(B46,","),"") -> 505,
B50: 6.- WORKER CONTRACTS
B51: Item | C51: Action Description | D51: Points | E51: Required | F51: Validation Flag | G51: Completion | H51: Status | I51: Pending Action
B52: 601 | C52: Update written worker contracts/offer letters to include terms and conditions regarding employer obligation to pay costs and fees, no fees to workers policy, resources available if they face fee charging during recruitment and reimbursement and repayment policy. | D52: 16.7 | E52: yes | F52: =IF(LOWER(H52)="fully Implemented",1,0) -> 0 | G52: {=_xlfn.SWITCH(H52,"Fully Implemented",1,"In Progress",0.5,"No started",0,0)*D52} -> 0 | H52: No started | I52: =IF(H52<>"Fully Implemented",CONCATENATE(B52,","),"") -> 601,
B53: 602 | C53: Before a new recruitment process begins, review and approve any job advertisement, including the job description used by any third parties, to ensure accurate description of role and responsibilities of the position and clear communication of employer obligation to pay costs and fees, no fees to workers policy, resources available if they face fee charging during recruitment and reimbursement and repayment policy. | D53: 16.7 | E53: yes | F53: =IF(LOWER(H53)="fully Implemented",1,0) -> 0 | G53: {=_xlfn.SWITCH(H53,"Fully Implemented",1,"In Progress",0.5,"No started",0,0)*D53} -> 0 | H53: No started | I53: =IF(H53<>"Fully Implemented",CONCATENATE(B53,","),"") -> 602,
B54: 603 | C54: Include a clause in all worker contracts stating that any revisions to the employment contract after the worker's departure from the sending country or upon arrival in the receiving country must be equally or more favorable to the migrant worker than the original contract. | D54: 16.7 | E54: yes | F54: =IF(LOWER(H54)="fully Implemented",1,0) -> 0 | G54: {=_xlfn.SWITCH(H54,"Fully Implemented",1,"In Progress",0.5,"No started",0,0)*D54} -> 0 | H54: No started | I54: =IF(H54<>"Fully Implemented",CONCATENATE(B54,","),"") -> 603,
B55: 604 | C55: Ensure alignment between job advertisements, offer letters and/or employment contracts on the employer pays and zero fees to workers policy. | D55: 16.7 | E55: yes | F55: =IF(LOWER(H55)="fully Implemented",1,0) -> 0 | G55: {=_xlfn.SWITCH(H55,"Fully Implemented",1,"In Progress",0.5,"No started",0,0)*D55} -> 0 | H55: No started | I55: =IF(H55<>"Fully Implemented",CONCATENATE(B55,","),"") -> 604,
B56: 605 | C56: For all workers, the contract terms and conditions are verbally explained in a language that they understand, prior to signing the contract, and workers’ understanding of the contract terms is confirmed. | D56: 16.6 | E56: yes | F56: =IF(LOWER(H56)="fully Implemented",1,0) -> 0 | G56: {=_xlfn.SWITCH(H56,"Fully Implemented",1,"In Progress",0.5,"No started",0,0)*D56} -> 0 | H56: No started | I56: =IF(H56<>"Fully Implemented",CONCATENATE(B56,","),"") -> 605,
...
